Package: microRNA Version: 1.66.0 Command: /home/biocbuild/R/R/bin/R CMD build --keep-empty-dirs --no-resave-data microRNA StartedAt: 2025-10-14 02:28:35 -0000 (Tue, 14 Oct 2025) EndedAt: 2025-10-14 02:28:39 -0000 (Tue, 14 Oct 2025) EllapsedTime: 4.0 seconds RetCode: 0 Status: OK PackageFile: microRNA_1.66.0.tar.gz PackageFileSize: 5.743 MiB