Package: methylumi Version: 2.54.0 Command: /home/biocbuild/R/R/bin/R CMD INSTALL methylumi StartedAt: 2025-10-13 21:17:47 -0000 (Mon, 13 Oct 2025) EndedAt: 2025-10-13 21:19:10 -0000 (Mon, 13 Oct 2025) EllapsedTime: 82.7 seconds RetCode: 0 Status: OK