Package: methylumi Version: 2.54.0 Command: /home/biocbuild/R/R/bin/R CMD build --keep-empty-dirs --no-resave-data methylumi StartedAt: 2025-10-14 02:23:43 -0000 (Tue, 14 Oct 2025) EndedAt: 2025-10-14 02:28:34 -0000 (Tue, 14 Oct 2025) EllapsedTime: 291.1 seconds RetCode: 0 Status: OK PackageFile: methylumi_2.54.0.tar.gz PackageFileSize: 7.34 MiB