Package: methylumi Version: 2.54.0 Maintainer: Sean Davis MaintainerEmail: seandavi at gmail.com git_url: https://git.bioconductor.org/packages/methylumi git_branch: RELEASE_3_21 git_last_commit: 7384001 git_last_commit_date: 2025-04-15 09:44:54 -0400 (Tue, 15 Apr 2025)