Package: methylclock Version: 1.14.0 Command: /home/biocbuild/R/R/bin/R CMD INSTALL methylclock StartedAt: 2025-10-13 21:01:57 -0000 (Mon, 13 Oct 2025) EndedAt: 2025-10-13 21:03:43 -0000 (Mon, 13 Oct 2025) EllapsedTime: 105.3 seconds RetCode: 0 Status: OK