Package: methylclock Version: 1.14.0 Command: /home/biocbuild/R/R/bin/R CMD build --keep-empty-dirs --no-resave-data methylclock StartedAt: 2025-10-14 02:19:44 -0000 (Tue, 14 Oct 2025) EndedAt: 2025-10-14 02:53:04 -0000 (Tue, 14 Oct 2025) EllapsedTime: 1999.7 seconds RetCode: 0 Status: OK PackageFile: methylclock_1.14.0.tar.gz PackageFileSize: 961.4 KiB