Package: methylKit Version: 1.34.0 Command: /home/biocbuild/R/R/bin/R CMD INSTALL methylKit StartedAt: 2025-10-13 20:41:20 -0000 (Mon, 13 Oct 2025) EndedAt: 2025-10-13 20:42:48 -0000 (Mon, 13 Oct 2025) EllapsedTime: 87.4 seconds RetCode: 0 Status: OK