Package: methylKit Version: 1.34.0 Command: /home/biocbuild/R/R/bin/R CMD build --keep-empty-dirs --no-resave-data methylKit StartedAt: 2025-10-14 02:21:31 -0000 (Tue, 14 Oct 2025) EndedAt: 2025-10-14 02:23:31 -0000 (Tue, 14 Oct 2025) EllapsedTime: 120.0 seconds RetCode: 0 Status: OK PackageFile: methylKit_1.34.0.tar.gz PackageFileSize: 1.366 MiB