Package: methylInheritance Version: 1.32.1 Command: /Library/Frameworks/R.framework/Resources/bin/R CMD check --install=check:methylInheritance.install-out.txt --library=/Library/Frameworks/R.framework/Resources/library --no-vignettes --timings methylInheritance_1.32.1.tar.gz StartedAt: 2025-10-14 06:22:27 -0400 (Tue, 14 Oct 2025) EndedAt: 2025-10-14 06:42:07 -0400 (Tue, 14 Oct 2025) EllapsedTime: 1180.4 seconds RetCode: 0 Status: OK CheckDir: methylInheritance.Rcheck Warnings: 0