Package: methylInheritance Version: 1.32.1 Command: rm -rf methylInheritance.buildbin-libdir && mkdir methylInheritance.buildbin-libdir && /Users/biocbuild/BBS/utils/build-universal.sh methylInheritance_1.32.1.tar.gz /Library/Frameworks/R.framework/Resources/bin/R methylInheritance.buildbin-libdir StartedAt: 2025-10-14 14:00:16 -0400 (Tue, 14 Oct 2025) EndedAt: 2025-10-14 14:02:55 -0400 (Tue, 14 Oct 2025) EllapsedTime: 159.0 seconds RetCode: 0 Status: OK PackageFile: methylInheritance_1.32.1.tgz PackageFileSize: 1.826 MiB