Package: methylInheritance Version: 1.32.1 Command: /home/biocbuild/R/R/bin/R CMD INSTALL methylInheritance StartedAt: 2025-10-13 20:42:51 -0000 (Mon, 13 Oct 2025) EndedAt: 2025-10-13 20:43:45 -0000 (Mon, 13 Oct 2025) EllapsedTime: 54.9 seconds RetCode: 0 Status: OK