Package: methylInheritance Version: 1.32.1 Command: rm -rf methylInheritance.buildbin-libdir && mkdir methylInheritance.buildbin-libdir && /Users/biocbuild/BBS/utils/build-universal.sh methylInheritance_1.32.1.tar.gz /Library/Frameworks/R.framework/Resources/bin/R methylInheritance.buildbin-libdir StartedAt: 2025-10-15 19:16:54 -0400 (Wed, 15 Oct 2025) EndedAt: 2025-10-15 19:17:43 -0400 (Wed, 15 Oct 2025) EllapsedTime: 48.4 seconds RetCode: 0 Status: OK PackageFile: methylInheritance_1.32.1.tgz PackageFileSize: 1.826 MiB