Package: methylInheritance Version: 1.32.1 Maintainer: Astrid DeschĂȘnes MaintainerEmail: adeschen at hotmail.com git_url: https://git.bioconductor.org/packages/methylInheritance git_branch: RELEASE_3_21 git_last_commit: 43da6b1 git_last_commit_date: 2025-09-22 15:56:00 -0400 (Mon, 22 Sep 2025)