Package: methrix Version: 1.22.1 Command: /home/biocbuild/R/R/bin/R CMD INSTALL methrix StartedAt: 2025-10-13 20:51:49 -0000 (Mon, 13 Oct 2025) EndedAt: 2025-10-13 20:52:48 -0000 (Mon, 13 Oct 2025) EllapsedTime: 59.0 seconds RetCode: 0 Status: OK