Package: methrix Version: 1.22.1 Command: /home/biocbuild/R/R/bin/R CMD build --keep-empty-dirs --no-resave-data methrix StartedAt: 2025-10-14 02:18:32 -0000 (Tue, 14 Oct 2025) EndedAt: 2025-10-14 02:24:00 -0000 (Tue, 14 Oct 2025) EllapsedTime: 328.1 seconds RetCode: 0 Status: OK PackageFile: methrix_1.22.1.tar.gz PackageFileSize: 4.029 MiB