Package: methodical Version: 1.4.1 Command: /home/biocbuild/bbs-3.21-bioc/R/bin/R CMD build --keep-empty-dirs --no-resave-data methodical StartedAt: 2025-10-15 18:24:52 -0400 (Wed, 15 Oct 2025) EndedAt: 2025-10-15 18:38:52 -0400 (Wed, 15 Oct 2025) EllapsedTime: 839.7 seconds RetCode: 0 Status: OK PackageFile: methodical_1.4.1.tar.gz PackageFileSize: 4.358 MiB