Package: methodical Version: 1.4.1 Command: /home/biocbuild/R/R/bin/R CMD build --keep-empty-dirs --no-resave-data methodical StartedAt: 2025-10-14 02:17:39 -0000 (Tue, 14 Oct 2025) EndedAt: 2025-10-14 02:57:40 -0000 (Tue, 14 Oct 2025) EllapsedTime: 2400.9 seconds RetCode: None Status: TIMEOUT PackageFile: None PackageFileSize: NA