Package: methodical Version: 1.4.1 Command: /Library/Frameworks/R.framework/Resources/bin/R CMD INSTALL methodical StartedAt: 2025-10-13 17:23:27 -0400 (Mon, 13 Oct 2025) EndedAt: 2025-10-13 17:24:15 -0400 (Mon, 13 Oct 2025) EllapsedTime: 48.7 seconds RetCode: 0 Status: OK