Package: methodical Version: 1.4.1 Command: /Library/Frameworks/R.framework/Resources/bin/R CMD build --keep-empty-dirs --no-resave-data methodical StartedAt: 2025-10-14 03:53:17 -0400 (Tue, 14 Oct 2025) EndedAt: 2025-10-14 04:13:39 -0400 (Tue, 14 Oct 2025) EllapsedTime: 1221.7 seconds RetCode: 0 Status: OK PackageFile: methodical_1.4.1.tar.gz PackageFileSize: 4.358 MiB