Package: methodical Version: 1.4.1 Command: rm -rf methodical.buildbin-libdir && mkdir methodical.buildbin-libdir && /Users/biocbuild/BBS/utils/build-universal.sh methodical_1.4.1.tar.gz /Library/Frameworks/R.framework/Resources/bin/R methodical.buildbin-libdir StartedAt: 2025-10-15 19:14:47 -0400 (Wed, 15 Oct 2025) EndedAt: 2025-10-15 19:15:28 -0400 (Wed, 15 Oct 2025) EllapsedTime: 40.8 seconds RetCode: 0 Status: OK PackageFile: methodical_1.4.1.tgz PackageFileSize: 4.517 MiB