Package: methodical Version: 1.4.1 Maintainer: Richard Heery MaintainerEmail: richardheery at gmail.com git_url: https://git.bioconductor.org/packages/methodical git_branch: RELEASE_3_21 git_last_commit: 5bf3f7f git_last_commit_date: 2025-10-13 04:48:03 -0400 (Mon, 13 Oct 2025)