Package: methInheritSim Version: 1.30.0 Command: /home/biocbuild/bbs-3.21-bioc/R/bin/R CMD INSTALL methInheritSim StartedAt: 2025-10-15 15:28:23 -0400 (Wed, 15 Oct 2025) EndedAt: 2025-10-15 15:29:01 -0400 (Wed, 15 Oct 2025) EllapsedTime: 37.2 seconds RetCode: 0 Status: OK