Package: methInheritSim Version: 1.30.0 Command: /Library/Frameworks/R.framework/Resources/bin/R CMD INSTALL methInheritSim StartedAt: 2025-10-13 15:53:23 -0400 (Mon, 13 Oct 2025) EndedAt: 2025-10-13 15:54:40 -0400 (Mon, 13 Oct 2025) EllapsedTime: 77.1 seconds RetCode: 0 Status: OK