Package: methInheritSim Version: 1.30.0 Command: /home/biocbuild/R/R/bin/R CMD INSTALL methInheritSim StartedAt: 2025-10-13 20:43:56 -0000 (Mon, 13 Oct 2025) EndedAt: 2025-10-13 20:44:50 -0000 (Mon, 13 Oct 2025) EllapsedTime: 54.0 seconds RetCode: 0 Status: OK