Package: methInheritSim Version: 1.30.0 Command: /home/biocbuild/R/R/bin/R CMD check --install=check:methInheritSim.install-out.txt --library=/home/biocbuild/R/R/site-library --no-vignettes --timings methInheritSim_1.30.0.tar.gz StartedAt: 2025-10-14 11:01:50 -0000 (Tue, 14 Oct 2025) EndedAt: 2025-10-14 11:09:00 -0000 (Tue, 14 Oct 2025) EllapsedTime: 430.3 seconds RetCode: 0 Status: OK CheckDir: methInheritSim.Rcheck Warnings: 0