Package: methInheritSim Version: 1.30.0 Command: /home/biocbuild/R/R/bin/R CMD build --keep-empty-dirs --no-resave-data methInheritSim StartedAt: 2025-10-14 02:17:18 -0000 (Tue, 14 Oct 2025) EndedAt: 2025-10-14 02:18:53 -0000 (Tue, 14 Oct 2025) EllapsedTime: 95.0 seconds RetCode: 0 Status: OK PackageFile: methInheritSim_1.30.0.tar.gz PackageFileSize: 1.141 MiB