Package: methInheritSim Version: 1.30.0 Command: /Library/Frameworks/R.framework/Resources/bin/R CMD INSTALL methInheritSim StartedAt: 2025-10-13 16:45:24 -0400 (Mon, 13 Oct 2025) EndedAt: 2025-10-13 16:46:08 -0400 (Mon, 13 Oct 2025) EllapsedTime: 44.7 seconds RetCode: 0 Status: OK