Package: methInheritSim Version: 1.30.0 Command: /Library/Frameworks/R.framework/Resources/bin/R CMD build --keep-empty-dirs --no-resave-data methInheritSim StartedAt: 2025-10-14 03:51:54 -0400 (Tue, 14 Oct 2025) EndedAt: 2025-10-14 03:53:17 -0400 (Tue, 14 Oct 2025) EllapsedTime: 82.7 seconds RetCode: 0 Status: OK PackageFile: methInheritSim_1.30.0.tar.gz PackageFileSize: 1.117 MiB