Package: metabomxtr Version: 1.42.0 Command: /Library/Frameworks/R.framework/Resources/bin/R CMD INSTALL metabomxtr StartedAt: 2025-10-13 15:21:59 -0400 (Mon, 13 Oct 2025) EndedAt: 2025-10-13 15:22:24 -0400 (Mon, 13 Oct 2025) EllapsedTime: 24.4 seconds RetCode: 0 Status: OK