Package: metabomxtr Version: 1.42.0 Command: /home/biocbuild/R/R/bin/R CMD build --keep-empty-dirs --no-resave-data metabomxtr StartedAt: 2025-10-14 02:15:06 -0000 (Tue, 14 Oct 2025) EndedAt: 2025-10-14 02:15:47 -0000 (Tue, 14 Oct 2025) EllapsedTime: 41.0 seconds RetCode: 0 Status: OK PackageFile: metabomxtr_1.42.0.tar.gz PackageFileSize: 545.5 KiB