Package: metabomxtr Version: 1.42.0 Command: /Library/Frameworks/R.framework/Resources/bin/R CMD INSTALL metabomxtr StartedAt: 2025-10-13 15:34:06 -0400 (Mon, 13 Oct 2025) EndedAt: 2025-10-13 15:34:18 -0400 (Mon, 13 Oct 2025) EllapsedTime: 12.7 seconds RetCode: 0 Status: OK