Package: metabomxtr Version: 1.42.0 Command: /Library/Frameworks/R.framework/Resources/bin/R CMD build --keep-empty-dirs --no-resave-data metabomxtr StartedAt: 2025-10-14 03:45:29 -0400 (Tue, 14 Oct 2025) EndedAt: 2025-10-14 03:46:12 -0400 (Tue, 14 Oct 2025) EllapsedTime: 42.9 seconds RetCode: 0 Status: OK PackageFile: metabomxtr_1.42.0.tar.gz PackageFileSize: 558.7 KiB