Package: metabolomicsWorkbenchR Version: 1.18.0 Command: /home/biocbuild/bbs-3.21-bioc/R/bin/R CMD INSTALL metabolomicsWorkbenchR StartedAt: 2025-10-15 15:31:17 -0400 (Wed, 15 Oct 2025) EndedAt: 2025-10-15 15:31:46 -0400 (Wed, 15 Oct 2025) EllapsedTime: 28.9 seconds RetCode: 0 Status: OK