Package: metabolomicsWorkbenchR Version: 1.18.0 Command: /home/biocbuild/R/R/bin/R CMD INSTALL metabolomicsWorkbenchR StartedAt: 2025-10-13 20:47:13 -0000 (Mon, 13 Oct 2025) EndedAt: 2025-10-13 20:47:54 -0000 (Mon, 13 Oct 2025) EllapsedTime: 40.4 seconds RetCode: 0 Status: OK