Package: metabCombiner Version: 1.18.0 Command: /home/biocbuild/bbs-3.21-bioc/R/bin/R CMD INSTALL metabCombiner StartedAt: 2025-10-15 15:11:31 -0400 (Wed, 15 Oct 2025) EndedAt: 2025-10-15 15:11:48 -0400 (Wed, 15 Oct 2025) EllapsedTime: 17.4 seconds RetCode: 0 Status: OK