Package: metabCombiner Version: 1.18.0 Command: /Library/Frameworks/R.framework/Resources/bin/R CMD INSTALL metabCombiner StartedAt: 2025-10-13 15:21:52 -0400 (Mon, 13 Oct 2025) EndedAt: 2025-10-13 15:22:37 -0400 (Mon, 13 Oct 2025) EllapsedTime: 44.9 seconds RetCode: 0 Status: OK