Package: metabCombiner Version: 1.18.0 Command: /Library/Frameworks/R.framework/Resources/bin/R CMD build --keep-empty-dirs --no-resave-data metabCombiner StartedAt: 2025-10-13 20:20:14 -0400 (Mon, 13 Oct 2025) EndedAt: 2025-10-13 20:21:31 -0400 (Mon, 13 Oct 2025) EllapsedTime: 76.4 seconds RetCode: 0 Status: OK PackageFile: metabCombiner_1.18.0.tar.gz PackageFileSize: 2.553 MiB