Package: metabCombiner Version: 1.18.0 Command: rm -rf metabCombiner.buildbin-libdir && mkdir metabCombiner.buildbin-libdir && /Users/biocbuild/BBS/utils/build-universal.sh metabCombiner_1.18.0.tar.gz /Library/Frameworks/R.framework/Resources/bin/R metabCombiner.buildbin-libdir StartedAt: 2025-10-14 13:57:57 -0400 (Tue, 14 Oct 2025) EndedAt: 2025-10-14 13:59:22 -0400 (Tue, 14 Oct 2025) EllapsedTime: 85.3 seconds RetCode: 0 Status: OK PackageFile: metabCombiner_1.18.0.tgz PackageFileSize: 2.94 MiB