Package: metabCombiner Version: 1.18.0 Command: /home/biocbuild/R/R/bin/R CMD INSTALL metabCombiner StartedAt: 2025-10-13 20:23:48 -0000 (Mon, 13 Oct 2025) EndedAt: 2025-10-13 20:24:12 -0000 (Mon, 13 Oct 2025) EllapsedTime: 24.1 seconds RetCode: 0 Status: OK