Package: metabCombiner Version: 1.18.0 Command: /Library/Frameworks/R.framework/Resources/bin/R CMD INSTALL metabCombiner StartedAt: 2025-10-13 15:33:32 -0400 (Mon, 13 Oct 2025) EndedAt: 2025-10-13 15:33:52 -0400 (Mon, 13 Oct 2025) EllapsedTime: 20.1 seconds RetCode: 0 Status: OK