Package: metabCombiner Version: 1.18.0 Command: /Library/Frameworks/R.framework/Resources/bin/R CMD build --keep-empty-dirs --no-resave-data metabCombiner StartedAt: 2025-10-14 03:42:48 -0400 (Tue, 14 Oct 2025) EndedAt: 2025-10-14 03:43:29 -0400 (Tue, 14 Oct 2025) EllapsedTime: 40.9 seconds RetCode: 0 Status: OK PackageFile: metabCombiner_1.18.0.tar.gz PackageFileSize: 2.553 MiB