Package: metaSeq Version: 1.48.0 Command: /home/biocbuild/R/R/bin/R CMD INSTALL metaSeq StartedAt: 2025-10-13 20:25:13 -0000 (Mon, 13 Oct 2025) EndedAt: 2025-10-13 20:25:22 -0000 (Mon, 13 Oct 2025) EllapsedTime: 9.1 seconds RetCode: 0 Status: OK