Package: metaSeq Version: 1.48.0 Command: /home/biocbuild/R/R/bin/R CMD build --keep-empty-dirs --no-resave-data metaSeq StartedAt: 2025-10-14 02:16:51 -0000 (Tue, 14 Oct 2025) EndedAt: 2025-10-14 02:17:07 -0000 (Tue, 14 Oct 2025) EllapsedTime: 16.0 seconds RetCode: 0 Status: OK PackageFile: metaSeq_1.48.0.tar.gz PackageFileSize: 6.19 MiB