Package: messina Version: 1.44.0 Command: /home/biocbuild/R/R/bin/R CMD INSTALL messina StartedAt: 2025-10-13 20:18:50 -0000 (Mon, 13 Oct 2025) EndedAt: 2025-10-13 20:19:25 -0000 (Mon, 13 Oct 2025) EllapsedTime: 35.4 seconds RetCode: 0 Status: OK