Package: messina Version: 1.44.0 Command: /home/biocbuild/R/R/bin/R CMD build --keep-empty-dirs --no-resave-data messina StartedAt: 2025-10-14 02:14:17 -0000 (Tue, 14 Oct 2025) EndedAt: 2025-10-14 02:16:15 -0000 (Tue, 14 Oct 2025) EllapsedTime: 118.0 seconds RetCode: 0 Status: OK PackageFile: messina_1.44.0.tar.gz PackageFileSize: 292.6 KiB