Package: meshr Version: 2.14.0 Command: rm -rf meshr.buildbin-libdir && mkdir meshr.buildbin-libdir && /Users/biocbuild/BBS/utils/build-universal.sh meshr_2.14.0.tar.gz /Library/Frameworks/R.framework/Resources/bin/R meshr.buildbin-libdir StartedAt: 2025-10-14 13:57:45 -0400 (Tue, 14 Oct 2025) EndedAt: 2025-10-14 13:59:21 -0400 (Tue, 14 Oct 2025) EllapsedTime: 95.6 seconds RetCode: 0 Status: OK PackageFile: meshr_2.14.0.tgz PackageFileSize: 931.8 KiB