Package: meshes Version: 1.34.0 Command: /home/biocbuild/R/R/bin/R CMD INSTALL meshes StartedAt: 2025-10-13 21:06:59 -0000 (Mon, 13 Oct 2025) EndedAt: 2025-10-13 21:07:36 -0000 (Mon, 13 Oct 2025) EllapsedTime: 37.0 seconds RetCode: 0 Status: OK