Package: meshes Version: 1.34.0 Command: /Library/Frameworks/R.framework/Resources/bin/R CMD INSTALL meshes StartedAt: 2025-10-13 17:50:32 -0400 (Mon, 13 Oct 2025) EndedAt: 2025-10-13 17:51:02 -0400 (Mon, 13 Oct 2025) EllapsedTime: 30.1 seconds RetCode: 0 Status: OK