Package: meshes Version: 1.34.0 Command: rm -rf meshes.buildbin-libdir && mkdir meshes.buildbin-libdir && /Users/biocbuild/BBS/utils/build-universal.sh meshes_1.34.0.tar.gz /Library/Frameworks/R.framework/Resources/bin/R meshes.buildbin-libdir StartedAt: 2025-10-15 19:12:11 -0400 (Wed, 15 Oct 2025) EndedAt: 2025-10-15 19:12:45 -0400 (Wed, 15 Oct 2025) EllapsedTime: 33.9 seconds RetCode: 0 Status: OK PackageFile: meshes_1.34.0.tgz PackageFileSize: 1.296 MiB