Package: mdp Version: 1.28.0 Command: /home/biocbuild/R/R/bin/R CMD INSTALL mdp StartedAt: 2025-10-13 20:19:11 -0000 (Mon, 13 Oct 2025) EndedAt: 2025-10-13 20:19:44 -0000 (Mon, 13 Oct 2025) EllapsedTime: 32.8 seconds RetCode: 0 Status: OK